BEGIN:VCALENDAR
VERSION:2.0
PRODID:-//Stutton Parish Council//Meeting Calendar//EN
CALSCALE:GREGORIAN
METHOD:PUBLISH
BEGIN:VEVENT
UID:70467-20260810@stuttonparishcouncil.gov.uk
DTSTAMP:20260421T083227Z
DTSTART;VALUE=DATE:20260810
DTEND;VALUE=DATE:20260811
SUMMARY:Parish Council Meeting &#8211\\; 10 August 2026
DESCRIPTION:Full Council Meeting\nView details: https://stuttonparishcouncil.gov.uk/meetings/parish-council-meeting-10-august-2026/
URL:https://stuttonparishcouncil.gov.uk/meetings/parish-council-meeting-10-august-2026/
END:VEVENT
END:VCALENDAR
