BEGIN:VCALENDAR
VERSION:2.0
PRODID:-//Stutton Parish Council//Meeting Calendar//EN
CALSCALE:GREGORIAN
METHOD:PUBLISH
BEGIN:VEVENT
UID:70488-20250609@stuttonparishcouncil.gov.uk
DTSTAMP:20260425T113351Z
DTSTART;VALUE=DATE:20250609
DTEND;VALUE=DATE:20250610
SUMMARY:Parish Council Meeting &#8211\\; 9 June 2025
DESCRIPTION:Full Council Meeting\nView details: https://stuttonparishcouncil.gov.uk/meetings/parish-council-meeting-9-june-2025/
URL:https://stuttonparishcouncil.gov.uk/meetings/parish-council-meeting-9-june-2025/
END:VEVENT
END:VCALENDAR
