BEGIN:VCALENDAR
VERSION:2.0
PRODID:-//Stutton Parish Council//Meeting Calendar//EN
CALSCALE:GREGORIAN
METHOD:PUBLISH
BEGIN:VEVENT
UID:70491-20250709@stuttonparishcouncil.gov.uk
DTSTAMP:20260425T114228Z
DTSTART;VALUE=DATE:20250709
DTEND;VALUE=DATE:20250710
SUMMARY:Parish Council Meeting &#8211\\; 9 July 2025
DESCRIPTION:Full Council Meeting\nView details: https://stuttonparishcouncil.gov.uk/meetings/parish-council-meeting-9-july-2025/
URL:https://stuttonparishcouncil.gov.uk/meetings/parish-council-meeting-9-july-2025/
END:VEVENT
END:VCALENDAR
