BEGIN:VCALENDAR
VERSION:2.0
PRODID:-//Stutton Parish Council//Meeting Calendar//EN
CALSCALE:GREGORIAN
METHOD:PUBLISH
BEGIN:VEVENT
UID:70494-20250811@stuttonparishcouncil.gov.uk
DTSTAMP:20260425T112011Z
DTSTART;VALUE=DATE:20250811
DTEND;VALUE=DATE:20250812
SUMMARY:Parish Council Meeting &#8211\\; 11 August 2025
DESCRIPTION:Full Council Meeting\nView details: https://stuttonparishcouncil.gov.uk/meetings/parish-council-meeting-11-august-2025/
URL:https://stuttonparishcouncil.gov.uk/meetings/parish-council-meeting-11-august-2025/
END:VEVENT
END:VCALENDAR
