BEGIN:VCALENDAR
VERSION:2.0
PRODID:-//Stutton Parish Council//Meeting Calendar//EN
CALSCALE:GREGORIAN
METHOD:PUBLISH
BEGIN:VEVENT
UID:70508-20240101@stuttonparishcouncil.gov.uk
DTSTAMP:20260425T115725Z
DTSTART;VALUE=DATE:20240101
DTEND;VALUE=DATE:20240102
SUMMARY:Parish Council Meeting &#8211\\; 2024
DESCRIPTION:Full Council Meeting\nView details: https://stuttonparishcouncil.gov.uk/meetings/parish-council-meeting-2024/
URL:https://stuttonparishcouncil.gov.uk/meetings/parish-council-meeting-2024/
END:VEVENT
END:VCALENDAR
