BEGIN:VCALENDAR
VERSION:2.0
PRODID:-//Stutton Parish Council//Meeting Calendar//EN
CALSCALE:GREGORIAN
METHOD:PUBLISH
BEGIN:VEVENT
UID:70528-20230101@stuttonparishcouncil.gov.uk
DTSTAMP:20260425T115828Z
DTSTART;VALUE=DATE:20230101
DTEND;VALUE=DATE:20230102
SUMMARY:Parish Council Meeting &#8211\\; 2023
DESCRIPTION:Full Council Meeting\nView details: https://stuttonparishcouncil.gov.uk/meetings/parish-council-meeting-2023/
URL:https://stuttonparishcouncil.gov.uk/meetings/parish-council-meeting-2023/
END:VEVENT
END:VCALENDAR
